{
 "currentVersion": 10.71,
 "serviceDescription": "Version pour ArcGIS 10.4.1 et 10.5\n(Créé en 10.4.1)",
 "mapName": "Cadastre",
 "description": "Carte du Cadastre et PLU CNIG.",
 "copyrightText": "GEOMAP-IMAGIS",
 "supportsDynamicLayers": true,
 "layers": [],
 "tables": [],
 "spatialReference": {
  "wkid": 102110,
  "latestWkid": 2154
 },
 "singleFusedMapCache": true,
 "tileInfo": {
  "rows": 256,
  "cols": 256,
  "dpi": 96,
  "format": "PNG",
  "compressionQuality": 0,
  "origin": {
   "x": 584156,
   "y": 6907224
  },
  "spatialReference": {
   "wkid": 102110,
   "latestWkid": 2154
  },
  "lods": [
   {
    "level": 0,
    "resolution": 185.20870375074085,
    "scale": 700000
   },
   {
    "level": 1,
    "resolution": 52.91677250021167,
    "scale": 200000
   },
   {
    "level": 2,
    "resolution": 26.458386250105836,
    "scale": 100000
   },
   {
    "level": 3,
    "resolution": 13.229193125052918,
    "scale": 50000
   },
   {
    "level": 4,
    "resolution": 6.614596562526459,
    "scale": 25000
   },
   {
    "level": 5,
    "resolution": 3.3072982812632294,
    "scale": 12500
   },
   {
    "level": 6,
    "resolution": 1.9843789687579376,
    "scale": 7500
   },
   {
    "level": 7,
    "resolution": 1.3229193125052918,
    "scale": 5000
   },
   {
    "level": 8,
    "resolution": 0.6614596562526459,
    "scale": 2500
   },
   {
    "level": 9,
    "resolution": 0.33072982812632296,
    "scale": 1250
   },
   {
    "level": 10,
    "resolution": 0.13229193125052918,
    "scale": 500
   }
  ]
 },
 "initialExtent": {
  "xmin": 554599.2290094346,
  "ymin": 6773750.704899998,
  "xmax": 773028.0709905699,
  "ymax": 6911686.1949000005,
  "spatialReference": {
   "wkid": 102110,
   "latestWkid": 2154
  }
 },
 "fullExtent": {
  "xmin": 596994.4653000012,
  "ymin": 6815930.862199999,
  "xmax": 630830.8338999972,
  "ymax": 6854812.329300001,
  "spatialReference": {
   "wkid": 102110,
   "latestWkid": 2154
  }
 },
 "minScale": 700000,
 "maxScale": 500,
 "units": "esriMeters",
 "supportedImageFormatTypes": "PNG32,PNG24,PNG,JPG,DIB,TIFF,EMF,PS,PDF,GIF,SVG,SVGZ,BMP",
 "documentInfo": {
  "Title": "Cadastre",
  "Author": "GEOMAP-IMAGIS",
  "Comments": "Version pour ArcGIS 10.4.1 et 10.5\n(Créé en 10.4.1)",
  "Subject": "Consultation du Cadastre (Exemple)",
  "Category": "",
  "AntialiasingMode": "None",
  "TextAntialiasingMode": "Force",
  "Keywords": "AP FONCIER,Cadastre"
 },
 "capabilities": "Map,Query,Data",
 "supportedQueryFormats": "JSON, geoJSON",
 "exportTilesAllowed": false,
 "datumTransformations": [
  {
   "geoTransforms": [
    {
     "wkid": 108001,
     "latestWkid": 1241,
     "transformForward": true,
     "name": "NAD_1927_To_NAD_1983_NADCON"
    }
   ]
  },
  {
   "geoTransforms": [
    {
     "wkid": 108001,
     "latestWkid": 1241,
     "transformForward": false,
     "name": "NAD_1927_To_NAD_1983_NADCON"
    }
   ]
  }
 ],
 "supportsDatumTransformation": true,
 "maxRecordCount": 1000,
 "maxImageHeight": 4096,
 "maxImageWidth": 4096,
 "supportedExtensions": ""
}
