{
 "currentVersion": 10.71,
 "serviceDescription": "",
 "mapName": "Couches",
 "description": "",
 "copyrightText": "",
 "supportsDynamicLayers": true,
 "layers": [
  {
   "id": 0,
   "name": "ortho_formation",
   "parentLayerId": -1,
   "defaultVisibility": true,
   "subLayerIds": null,
   "minScale": 0,
   "maxScale": 0,
   "type": "Raster Layer"
  }
 ],
 "tables": [],
 "spatialReference": {
  "wkid": 102110,
  "latestWkid": 2154
 },
 "singleFusedMapCache": true,
 "tileInfo": {
  "rows": 256,
  "cols": 256,
  "dpi": 96,
  "format": "JPEG",
  "compressionQuality": 75,
  "origin": {
   "x": 584841,
   "y": 6885249
  },
  "spatialReference": {
   "wkid": 102110,
   "latestWkid": 2154
  },
  "lods": [
   {
    "level": 0,
    "resolution": 26.458386250105836,
    "scale": 100000
   },
   {
    "level": 1,
    "resolution": 13.229193125052918,
    "scale": 50000
   },
   {
    "level": 2,
    "resolution": 6.614596562526459,
    "scale": 25000
   }
  ]
 },
 "initialExtent": {
  "xmin": 584749.8903740272,
  "ymin": 6869250.135538887,
  "xmax": 590249.8903740272,
  "ymax": 6885750.135538887,
  "spatialReference": {
   "wkid": 102110,
   "latestWkid": 2154
  }
 },
 "fullExtent": {
  "xmin": 584999.8903740272,
  "ymin": 6870000.135538876,
  "xmax": 589999.8903740272,
  "ymax": 6885000.135538887,
  "spatialReference": {
   "wkid": 102110,
   "latestWkid": 2154
  }
 },
 "minScale": 100000,
 "maxScale": 25000,
 "units": "esriMeters",
 "supportedImageFormatTypes": "PNG32,PNG24,PNG,JPG,DIB,TIFF,EMF,PS,PDF,GIF,SVG,SVGZ,BMP",
 "documentInfo": {
  "Title": "",
  "Author": "",
  "Comments": "",
  "Subject": "",
  "Category": "",
  "AntialiasingMode": "None",
  "TextAntialiasingMode": "Force",
  "Keywords": ""
 },
 "capabilities": "Map,Query,Data",
 "supportedQueryFormats": "JSON, geoJSON",
 "exportTilesAllowed": false,
 "supportsDatumTransformation": true,
 "maxRecordCount": 1000,
 "maxImageHeight": 4096,
 "maxImageWidth": 4096,
 "supportedExtensions": ""
}
